Package: MassSpecWavelet Version: 1.68.0 Command: /Library/Frameworks/R.framework/Resources/bin/R CMD build --keep-empty-dirs --no-resave-data MassSpecWavelet StartedAt: 2024-03-03 17:15:14 -0500 (Sun, 03 Mar 2024) EndedAt: 2024-03-03 17:16:20 -0500 (Sun, 03 Mar 2024) EllapsedTime: 65.6 seconds RetCode: 0 Status: OK PackageFile: MassSpecWavelet_1.68.0.tar.gz PackageFileSize: 1.918 MiB