Package: MassSpecWavelet Version: 1.68.0 Command: /Library/Frameworks/R.framework/Resources/bin/R CMD check --install=check:MassSpecWavelet.install-out.txt --library=/Library/Frameworks/R.framework/Resources/library --no-vignettes --timings MassSpecWavelet_1.68.0.tar.gz StartedAt: 2024-03-03 21:34:13 -0500 (Sun, 03 Mar 2024) EndedAt: 2024-03-03 21:34:56 -0500 (Sun, 03 Mar 2024) EllapsedTime: 43.0 seconds RetCode: 0 Status: OK CheckDir: MassSpecWavelet.Rcheck Warnings: 0