Package: MassSpecWavelet Version: 1.68.0 Command: /Library/Frameworks/R.framework/Resources/bin/R CMD INSTALL MassSpecWavelet StartedAt: 2024-03-03 15:03:37 -0500 (Sun, 03 Mar 2024) EndedAt: 2024-03-03 15:03:47 -0500 (Sun, 03 Mar 2024) EllapsedTime: 10.4 seconds RetCode: 0 Status: OK