Package: MatrixRider Version: 1.34.0 Command: chmod a+r MatrixRider -R && F:\biocbuild\bbs-3.18-bioc\R\bin\R.exe CMD build --keep-empty-dirs --no-resave-data MatrixRider StartedAt: 2024-04-15 19:21:38 -0400 (Mon, 15 Apr 2024) EndedAt: 2024-04-15 19:22:59 -0400 (Mon, 15 Apr 2024) EllapsedTime: 81.2 seconds RetCode: 0 Status: OK PackageFile: MatrixRider_1.34.0.tar.gz PackageFileSize: 265.3 KiB