Package: Mergeomics Version: 1.30.0 Command: /home/biocbuild/R/R-4.3.1/bin/R CMD INSTALL Mergeomics StartedAt: 2023-11-01 20:03:33 -0000 (Wed, 01 Nov 2023) EndedAt: 2023-11-01 20:03:42 -0000 (Wed, 01 Nov 2023) EllapsedTime: 9.4 seconds RetCode: 0 Status: OK