Package: MesKit
Version: 1.12.0
Command: chmod a+r MesKit -R && F:\biocbuild\bbs-3.18-bioc\R\bin\R.exe CMD build --keep-empty-dirs --no-resave-data MesKit
StartedAt: 2024-04-15 19:24:48 -0400 (Mon, 15 Apr 2024)
EndedAt: 2024-04-15 19:26:35 -0400 (Mon, 15 Apr 2024)
EllapsedTime: 106.4 seconds
RetCode: 0
Status: OK
PackageFile: MesKit_1.12.0.tar.gz
PackageFileSize: 2.549 <A href="http://en.wikipedia.org/wiki/MiB" target="_blank">MiB</A>