Package: MetID Version: 1.20.0 Command: /Library/Frameworks/R.framework/Resources/bin/R CMD build --keep-empty-dirs --no-resave-data MetID StartedAt: 2024-03-03 17:21:02 -0500 (Sun, 03 Mar 2024) EndedAt: 2024-03-03 17:21:37 -0500 (Sun, 03 Mar 2024) EllapsedTime: 34.7 seconds RetCode: 0 Status: OK PackageFile: MetID_1.20.0.tar.gz PackageFileSize: 1.504 MiB