Package: MetID Version: 1.20.0 Command: /Library/Frameworks/R.framework/Resources/bin/R CMD INSTALL MetID StartedAt: 2024-03-03 15:39:06 -0500 (Sun, 03 Mar 2024) EndedAt: 2024-03-03 15:39:22 -0500 (Sun, 03 Mar 2024) EllapsedTime: 16.4 seconds RetCode: 0 Status: OK