Package: MetaNeighbor Version: 1.22.0 Command: /Library/Frameworks/R.framework/Resources/bin/R CMD INSTALL MetaNeighbor StartedAt: 2024-04-15 15:19:36 -0400 (Mon, 15 Apr 2024) EndedAt: 2024-04-15 15:19:46 -0400 (Mon, 15 Apr 2024) EllapsedTime: 10.3 seconds RetCode: 0 Status: OK