Package: MetaVolcanoR Version: 1.16.0 Maintainer: Cesar Prada MaintainerEmail: cesar.prada.medina at gmail.com git_url: https://git.bioconductor.org/packages/MetaVolcanoR git_branch: RELEASE_3_18 git_last_commit: 9f793a4 git_last_commit_date: 2023-10-24 11:14:58 -0400 (Tue, 24 Oct 2023)