Package: MetaVolcanoR Version: 1.16.0 Command: /Library/Frameworks/R.framework/Resources/bin/R CMD INSTALL MetaVolcanoR StartedAt: 2024-03-03 15:37:07 -0500 (Sun, 03 Mar 2024) EndedAt: 2024-03-03 15:37:15 -0500 (Sun, 03 Mar 2024) EllapsedTime: 8.8 seconds RetCode: 0 Status: OK