Package: MetaVolcanoR Version: 1.16.0 Command: /home/biocbuild/bbs-3.18-bioc/R/bin/R CMD check --install=check:MetaVolcanoR.install-out.txt --library=/home/biocbuild/bbs-3.18-bioc/R/site-library --timings MetaVolcanoR_1.16.0.tar.gz StartedAt: 2024-04-16 00:41:12 -0400 (Tue, 16 Apr 2024) EndedAt: 2024-04-16 00:43:53 -0400 (Tue, 16 Apr 2024) EllapsedTime: 161.7 seconds RetCode: 0 Status: WARNINGS CheckDir: MetaVolcanoR.Rcheck Warnings: 1