Package: MetaVolcanoR Version: 1.16.0 Command: F:\biocbuild\bbs-3.18-bioc\R\bin\R.exe CMD check --no-multiarch --install=check:MetaVolcanoR.install-out.txt --library=F:\biocbuild\bbs-3.18-bioc\R\library --no-vignettes --timings MetaVolcanoR_1.16.0.tar.gz StartedAt: 2024-04-16 02:28:36 -0400 (Tue, 16 Apr 2024) EndedAt: 2024-04-16 02:32:25 -0400 (Tue, 16 Apr 2024) EllapsedTime: 228.6 seconds RetCode: 0 Status: OK CheckDir: MetaVolcanoR.Rcheck Warnings: 0