Package: MetaboSignal Version: 1.32.1 Command: /home/biocbuild/bbs-3.18-bioc/R/bin/R CMD build --keep-empty-dirs --no-resave-data MetaboSignal StartedAt: 2024-04-15 17:50:33 -0400 (Mon, 15 Apr 2024) EndedAt: 2024-04-15 17:52:26 -0400 (Mon, 15 Apr 2024) EllapsedTime: 112.9 seconds RetCode: 0 Status: OK PackageFile: MetaboSignal_1.32.1.tar.gz PackageFileSize: 2.089 MiB