Package: MethPed
Version: 1.30.0
Command: /home/biocbuild/R/R-4.3.1/bin/R CMD build --keep-empty-dirs --no-resave-data MethPed
StartedAt: 2023-11-02 03:14:44 -0000 (Thu, 02 Nov 2023)
EndedAt: 2023-11-02 03:16:28 -0000 (Thu, 02 Nov 2023)
EllapsedTime: 104.1 seconds
RetCode: 0
Status: OK
PackageFile: MethPed_1.30.0.tar.gz
PackageFileSize: 9.294 <A href="http://en.wikipedia.org/wiki/MiB" target="_blank">MiB</A>