Package: MethReg Version: 1.12.0 Maintainer: Tiago Silva MaintainerEmail: tiagochst at gmail.com git_url: https://git.bioconductor.org/packages/MethReg git_branch: RELEASE_3_18 git_last_commit: 30684d3 git_last_commit_date: 2023-10-24 11:25:49 -0400 (Tue, 24 Oct 2023)