Package: MethReg Version: 1.12.0 Command: /Library/Frameworks/R.framework/Resources/bin/R CMD build --keep-empty-dirs --no-resave-data MethReg StartedAt: 2024-04-15 19:54:34 -0400 (Mon, 15 Apr 2024) EndedAt: 2024-04-15 19:56:58 -0400 (Mon, 15 Apr 2024) EllapsedTime: 144.0 seconds RetCode: 1 Status: ERROR PackageFile: None PackageFileSize: NA