Package: MethReg Version: 1.12.0 Command: rm -rf MethReg.buildbin-libdir && mkdir MethReg.buildbin-libdir && F:\biocbuild\bbs-3.18-bioc\R\bin\R.exe CMD INSTALL --build --library=MethReg.buildbin-libdir MethReg_1.12.0.tar.gz StartedAt: 2024-03-06 08:55:23 -0500 (Wed, 06 Mar 2024) EndedAt: 2024-03-06 08:56:08 -0500 (Wed, 06 Mar 2024) EllapsedTime: 45.1 seconds RetCode: 0 Status: OK PackageFile: MethReg_1.12.0.zip PackageFileSize: 4.163 MiB