Package: MethReg Version: 1.12.0 Command: chmod a+r MethReg -R && F:\biocbuild\bbs-3.18-bioc\R\bin\R.exe CMD build --keep-empty-dirs --no-resave-data MethReg StartedAt: 2024-04-15 19:27:23 -0400 (Mon, 15 Apr 2024) EndedAt: 2024-04-15 19:28:49 -0400 (Mon, 15 Apr 2024) EllapsedTime: 85.4 seconds RetCode: 1 Status: ERROR PackageFile: None PackageFileSize: NA