Package: MethylMix Version: 2.32.0 Command: /home/biocbuild/R/R-4.3.1/bin/R CMD build --keep-empty-dirs --no-resave-data MethylMix StartedAt: 2023-11-02 03:23:23 -0000 (Thu, 02 Nov 2023) EndedAt: 2023-11-02 03:24:02 -0000 (Thu, 02 Nov 2023) EllapsedTime: 39.1 seconds RetCode: 0 Status: OK PackageFile: MethylMix_2.32.0.tar.gz PackageFileSize: 2.577 MiB