Package: MethylMix Version: 2.32.0 Command: /home/biocbuild/bbs-3.18-bioc/R/bin/R CMD check --install=check:MethylMix.install-out.txt --library=/home/biocbuild/bbs-3.18-bioc/R/site-library --timings MethylMix_2.32.0.tar.gz StartedAt: 2024-04-16 00:45:47 -0400 (Tue, 16 Apr 2024) EndedAt: 2024-04-16 00:48:18 -0400 (Tue, 16 Apr 2024) EllapsedTime: 150.7 seconds RetCode: 0 Status: OK CheckDir: MethylMix.Rcheck Warnings: 0