Package: MethylMix Version: 2.32.0 Command: /home/biocbuild/bbs-3.18-bioc/R/bin/R CMD INSTALL MethylMix StartedAt: 2024-04-15 15:34:14 -0400 (Mon, 15 Apr 2024) EndedAt: 2024-04-15 15:34:22 -0400 (Mon, 15 Apr 2024) EllapsedTime: 8.3 seconds RetCode: 0 Status: OK