Package: MiChip Version: 1.56.0 Command: rm -rf MiChip.buildbin-libdir && mkdir MiChip.buildbin-libdir && /Users/biocbuild/BBS/utils/build-universal.sh MiChip_1.56.0.tar.gz /Library/Frameworks/R.framework/Resources/bin/R MiChip.buildbin-libdir StartedAt: 2024-03-04 00:50:26 -0500 (Mon, 04 Mar 2024) EndedAt: 2024-03-04 00:50:33 -0500 (Mon, 04 Mar 2024) EllapsedTime: 6.7 seconds RetCode: 0 Status: OK PackageFile: MiChip_1.56.0.tgz PackageFileSize: 699.1 KiB