Package: MiChip Version: 1.56.0 Command: /Library/Frameworks/R.framework/Resources/bin/R CMD build --keep-empty-dirs --no-resave-data MiChip StartedAt: 2024-04-15 20:00:09 -0400 (Mon, 15 Apr 2024) EndedAt: 2024-04-15 20:00:33 -0400 (Mon, 15 Apr 2024) EllapsedTime: 23.9 seconds RetCode: 0 Status: OK PackageFile: MiChip_1.56.0.tar.gz PackageFileSize: 669.5 KiB