Package: MiChip Version: 1.56.0 Command: /Library/Frameworks/R.framework/Resources/bin/R CMD check --install=check:MiChip.install-out.txt --library=/Library/Frameworks/R.framework/Resources/library --no-vignettes --timings MiChip_1.56.0.tar.gz StartedAt: 2024-04-16 05:17:52 -0400 (Tue, 16 Apr 2024) EndedAt: 2024-04-16 05:18:47 -0400 (Tue, 16 Apr 2024) EllapsedTime: 55.0 seconds RetCode: 0 Status: OK CheckDir: MiChip.Rcheck Warnings: 0