Package: MiChip Version: 1.56.0 Command: /Library/Frameworks/R.framework/Resources/bin/R CMD INSTALL MiChip StartedAt: 2024-04-15 15:04:49 -0400 (Mon, 15 Apr 2024) EndedAt: 2024-04-15 15:05:02 -0400 (Mon, 15 Apr 2024) EllapsedTime: 12.9 seconds RetCode: 0 Status: OK