Package: MineICA Version: 1.42.0 Command: /home/biocbuild/R/R-4.3.1/bin/R CMD INSTALL MineICA StartedAt: 2023-11-01 20:58:56 -0000 (Wed, 01 Nov 2023) EndedAt: 2023-11-01 20:59:47 -0000 (Wed, 01 Nov 2023) EllapsedTime: 51.0 seconds RetCode: 0 Status: OK