Package: MineICA Version: 1.42.0 Command: rm -rf MineICA.buildbin-libdir && mkdir MineICA.buildbin-libdir && /Users/biocbuild/BBS/utils/build-universal.sh MineICA_1.42.0.tar.gz /Library/Frameworks/R.framework/Resources/bin/R MineICA.buildbin-libdir StartedAt: 2024-03-04 00:50:48 -0500 (Mon, 04 Mar 2024) EndedAt: 2024-03-04 00:51:43 -0500 (Mon, 04 Mar 2024) EllapsedTime: 54.5 seconds RetCode: 0 Status: OK PackageFile: MineICA_1.42.0.tgz PackageFileSize: 2.182 MiB