Package: MineICA Version: 1.42.0 Command: /Library/Frameworks/R.framework/Resources/bin/R CMD build --keep-empty-dirs --no-resave-data MineICA StartedAt: 2024-03-03 17:23:01 -0500 (Sun, 03 Mar 2024) EndedAt: 2024-03-03 17:24:59 -0500 (Sun, 03 Mar 2024) EllapsedTime: 118.0 seconds RetCode: 0 Status: OK PackageFile: MineICA_1.42.0.tar.gz PackageFileSize: 1.433 MiB