Package: MineICA Version: 1.42.0 Command: rm -rf MineICA.buildbin-libdir && mkdir MineICA.buildbin-libdir && /Users/biocbuild/BBS/utils/build-universal.sh MineICA_1.42.0.tar.gz /Library/Frameworks/R.framework/Resources/bin/R MineICA.buildbin-libdir StartedAt: 2024-04-16 12:12:53 -0400 (Tue, 16 Apr 2024) EndedAt: 2024-04-16 12:14:14 -0400 (Tue, 16 Apr 2024) EllapsedTime: 81.1 seconds RetCode: 0 Status: OK PackageFile: MineICA_1.42.0.tgz PackageFileSize: 2.187 MiB