Package: MinimumDistance Version: 1.46.0 Command: /home/biocbuild/R/R-4.3.1/bin/R CMD check --install=check:MinimumDistance.install-out.txt --library=/home/biocbuild/R/R-4.3.1/site-library --no-vignettes --timings MinimumDistance_1.46.0.tar.gz StartedAt: 2023-11-02 12:11:38 -0000 (Thu, 02 Nov 2023) EndedAt: 2023-11-02 12:18:45 -0000 (Thu, 02 Nov 2023) EllapsedTime: 426.3 seconds RetCode: 0 Status: WARNINGS CheckDir: MinimumDistance.Rcheck Warnings: 5