Package: MinimumDistance Version: 1.46.0 Command: /home/biocbuild/R/R-4.3.1/bin/R CMD INSTALL MinimumDistance StartedAt: 2023-11-01 21:01:35 -0000 (Wed, 01 Nov 2023) EndedAt: 2023-11-01 21:02:44 -0000 (Wed, 01 Nov 2023) EllapsedTime: 68.6 seconds RetCode: 0 Status: OK