Package: MinimumDistance Version: 1.46.0 Command: rm -rf MinimumDistance.buildbin-libdir && mkdir MinimumDistance.buildbin-libdir && /Users/biocbuild/BBS/utils/build-universal.sh MinimumDistance_1.46.0.tar.gz /Library/Frameworks/R.framework/Resources/bin/R MinimumDistance.buildbin-libdir StartedAt: 2024-03-04 00:50:52 -0500 (Mon, 04 Mar 2024) EndedAt: 2024-03-04 00:52:04 -0500 (Mon, 04 Mar 2024) EllapsedTime: 72.7 seconds RetCode: 0 Status: OK PackageFile: MinimumDistance_1.46.0.tgz PackageFileSize: 3.656 MiB