Package: MinimumDistance Version: 1.46.0 Command: /Library/Frameworks/R.framework/Resources/bin/R CMD build --keep-empty-dirs --no-resave-data MinimumDistance StartedAt: 2024-03-03 17:23:15 -0500 (Sun, 03 Mar 2024) EndedAt: 2024-03-03 17:24:49 -0500 (Sun, 03 Mar 2024) EllapsedTime: 94.3 seconds RetCode: 0 Status: OK PackageFile: MinimumDistance_1.46.0.tar.gz PackageFileSize: 2.552 MiB