Package: MinimumDistance Version: 1.46.0 Command: /Library/Frameworks/R.framework/Resources/bin/R CMD check --install=check:MinimumDistance.install-out.txt --library=/Library/Frameworks/R.framework/Resources/library --no-vignettes --timings MinimumDistance_1.46.0.tar.gz StartedAt: 2024-03-03 21:49:26 -0500 (Sun, 03 Mar 2024) EndedAt: 2024-03-03 21:55:37 -0500 (Sun, 03 Mar 2024) EllapsedTime: 370.9 seconds RetCode: 0 Status: WARNINGS CheckDir: MinimumDistance.Rcheck Warnings: 5