Package: MinimumDistance Version: 1.46.0 Command: /Library/Frameworks/R.framework/Resources/bin/R CMD INSTALL MinimumDistance StartedAt: 2024-03-03 15:43:22 -0500 (Sun, 03 Mar 2024) EndedAt: 2024-03-03 15:44:30 -0500 (Sun, 03 Mar 2024) EllapsedTime: 68.4 seconds RetCode: 0 Status: OK