Package: MinimumDistance Version: 1.46.0 Command: rm -rf MinimumDistance.buildbin-libdir && mkdir MinimumDistance.buildbin-libdir && /Users/biocbuild/BBS/utils/build-universal.sh MinimumDistance_1.46.0.tar.gz /Library/Frameworks/R.framework/Resources/bin/R MinimumDistance.buildbin-libdir StartedAt: 2024-04-16 12:13:07 -0400 (Tue, 16 Apr 2024) EndedAt: 2024-04-16 12:14:58 -0400 (Tue, 16 Apr 2024) EllapsedTime: 111.0 seconds RetCode: 0 Status: OK PackageFile: MinimumDistance_1.46.0.tgz PackageFileSize: 3.658 MiB