Package: MinimumDistance Version: 1.46.0 Command: /Library/Frameworks/R.framework/Resources/bin/R CMD check --install=check:MinimumDistance.install-out.txt --library=/Library/Frameworks/R.framework/Resources/library --no-vignettes --timings MinimumDistance_1.46.0.tar.gz StartedAt: 2024-04-16 05:24:56 -0400 (Tue, 16 Apr 2024) EndedAt: 2024-04-16 05:35:42 -0400 (Tue, 16 Apr 2024) EllapsedTime: 645.4 seconds RetCode: 0 Status: WARNINGS CheckDir: MinimumDistance.Rcheck Warnings: 5