Package: MinimumDistance Version: 1.46.0 Command: rm -rf MinimumDistance.buildbin-libdir && mkdir MinimumDistance.buildbin-libdir && F:\biocbuild\bbs-3.18-bioc\R\bin\R.exe CMD INSTALL --build --library=MinimumDistance.buildbin-libdir MinimumDistance_1.46.0.tar.gz StartedAt: 2024-04-16 07:17:19 -0400 (Tue, 16 Apr 2024) EndedAt: 2024-04-16 07:18:37 -0400 (Tue, 16 Apr 2024) EllapsedTime: 77.3 seconds RetCode: 0 Status: OK PackageFile: MinimumDistance_1.46.0.zip PackageFileSize: 3.52 MiB