Package: MinimumDistance Version: 1.46.0 Command: chmod a+r MinimumDistance -R && F:\biocbuild\bbs-3.18-bioc\R\bin\R.exe CMD build --keep-empty-dirs --no-resave-data MinimumDistance StartedAt: 2024-04-15 19:33:50 -0400 (Mon, 15 Apr 2024) EndedAt: 2024-04-15 19:35:41 -0400 (Mon, 15 Apr 2024) EllapsedTime: 110.8 seconds RetCode: 0 Status: OK PackageFile: MinimumDistance_1.46.0.tar.gz PackageFileSize: 2.401 MiB