Package: MobilityTransformR Version: 1.6.0 Command: rm -rf MobilityTransformR.buildbin-libdir && mkdir MobilityTransformR.buildbin-libdir && /Users/biocbuild/BBS/utils/build-universal.sh MobilityTransformR_1.6.0.tar.gz /Library/Frameworks/R.framework/Resources/bin/R MobilityTransformR.buildbin-libdir StartedAt: 2024-03-04 00:51:25 -0500 (Mon, 04 Mar 2024) EndedAt: 2024-03-04 00:52:22 -0500 (Mon, 04 Mar 2024) EllapsedTime: 57.5 seconds RetCode: 0 Status: OK PackageFile: MobilityTransformR_1.6.0.tgz PackageFileSize: 411.3 KiB