Package: Motif2Site Version: 1.6.0 Command: /home/biocbuild/R/R-4.3.1/bin/R CMD build --keep-empty-dirs --no-resave-data Motif2Site StartedAt: 2023-11-02 03:40:41 -0000 (Thu, 02 Nov 2023) EndedAt: 2023-11-02 03:45:20 -0000 (Thu, 02 Nov 2023) EllapsedTime: 279.4 seconds RetCode: 0 Status: OK PackageFile: Motif2Site_1.6.0.tar.gz PackageFileSize: 1.424 MiB