Package: Motif2Site Version: 1.6.0 Command: /home/biocbuild/R/R-4.3.1/bin/R CMD check --install=check:Motif2Site.install-out.txt --library=/home/biocbuild/R/R-4.3.1/site-library --no-vignettes --timings Motif2Site_1.6.0.tar.gz StartedAt: 2023-11-02 12:23:00 -0000 (Thu, 02 Nov 2023) EndedAt: 2023-11-02 12:35:12 -0000 (Thu, 02 Nov 2023) EllapsedTime: 732.1 seconds RetCode: 0 Status: OK CheckDir: Motif2Site.Rcheck Warnings: 0