Package: Motif2Site Version: 1.6.0 Command: /Library/Frameworks/R.framework/Resources/bin/R CMD build --keep-empty-dirs --no-resave-data Motif2Site StartedAt: 2024-04-15 20:09:51 -0400 (Mon, 15 Apr 2024) EndedAt: 2024-04-15 20:16:12 -0400 (Mon, 15 Apr 2024) EllapsedTime: 381.3 seconds RetCode: 0 Status: OK PackageFile: Motif2Site_1.6.0.tar.gz PackageFileSize: 1.414 MiB