Package: Motif2Site Version: 1.6.0 Command: /Library/Frameworks/R.framework/Resources/bin/R CMD check --install=check:Motif2Site.install-out.txt --library=/Library/Frameworks/R.framework/Resources/library --no-vignettes --timings Motif2Site_1.6.0.tar.gz StartedAt: 2024-04-16 05:41:03 -0400 (Tue, 16 Apr 2024) EndedAt: 2024-04-16 05:55:13 -0400 (Tue, 16 Apr 2024) EllapsedTime: 850.0 seconds RetCode: 0 Status: OK CheckDir: Motif2Site.Rcheck Warnings: 0