Package: Motif2Site Version: 1.6.0 Command: rm -rf Motif2Site.buildbin-libdir && mkdir Motif2Site.buildbin-libdir && F:\biocbuild\bbs-3.18-bioc\R\bin\R.exe CMD INSTALL --build --library=Motif2Site.buildbin-libdir Motif2Site_1.6.0.tar.gz StartedAt: 2024-04-16 07:18:47 -0400 (Tue, 16 Apr 2024) EndedAt: 2024-04-16 07:18:54 -0400 (Tue, 16 Apr 2024) EllapsedTime: 7.4 seconds RetCode: 0 Status: OK PackageFile: Motif2Site_1.6.0.zip PackageFileSize: 1.461 MiB