Package: Motif2Site Version: 1.6.0 Command: chmod a+r Motif2Site -R && F:\biocbuild\bbs-3.18-bioc\R\bin\R.exe CMD build --keep-empty-dirs --no-resave-data Motif2Site StartedAt: 2024-04-15 19:41:24 -0400 (Mon, 15 Apr 2024) EndedAt: 2024-04-15 19:45:26 -0400 (Mon, 15 Apr 2024) EllapsedTime: 241.6 seconds RetCode: 0 Status: OK PackageFile: Motif2Site_1.6.0.tar.gz PackageFileSize: 1.336 MiB