Package: MouseFM Version: 1.12.0 Maintainer: Matthias Munz MaintainerEmail: matthias.munz at gmx.de git_url: https://git.bioconductor.org/packages/MouseFM git_branch: RELEASE_3_18 git_last_commit: 63817e3 git_last_commit_date: 2023-10-24 11:38:30 -0400 (Tue, 24 Oct 2023)