Package: MouseFM Version: 1.12.0 Command: /Library/Frameworks/R.framework/Resources/bin/R CMD INSTALL MouseFM StartedAt: 2024-04-15 15:40:49 -0400 (Mon, 15 Apr 2024) EndedAt: 2024-04-15 15:41:27 -0400 (Mon, 15 Apr 2024) EllapsedTime: 37.5 seconds RetCode: 0 Status: OK