Package: MouseFM Version: 1.12.0 Command: /home/biocbuild/bbs-3.18-bioc/R/bin/R CMD build --keep-empty-dirs --no-resave-data MouseFM StartedAt: 2024-04-15 18:03:48 -0400 (Mon, 15 Apr 2024) EndedAt: 2024-04-15 18:04:51 -0400 (Mon, 15 Apr 2024) EllapsedTime: 63.4 seconds RetCode: 0 Status: OK PackageFile: MouseFM_1.12.0.tar.gz PackageFileSize: 747.9 KiB